BEGIN:VCALENDAR
VERSION:2.0
PRODID:-//wp-events-plugin.com//7.2.3.1//EN
TZID:Europe/Amsterdam
X-WR-TIMEZONE:Europe/Amsterdam
BEGIN:VEVENT
UID:66@stationskwartier-breda.nl
DTSTART;TZID=Europe/Amsterdam:20240620T160000
DTEND;TZID=Europe/Amsterdam:20240620T193000
DTSTAMP:20240605T100455Z
URL:https://stationskwartier-breda.nl/events/uitnodiging-zomerborrel-t-zoe
 t/
SUMMARY:UITNODIGING - Zomerborrel 't Zoet
DESCRIPTION:Hoe zit het nu met 't Zoet\n\nDe zomervakantie staat voor de de
 ur. Een goed moment om met elkaar bij te praten over 't Zoet\n\nWaar zijn 
 de Gemeente Breda en de Provincie nu mee bezig?\n- Hoe komt 't Zoet eruit 
 te zien?\n- Wanneer gaat de eerste schop in de grond?\n- Komen er extra br
 uggen over de Mark?\n- Wanneer kunnen we de eerste woningen verwachten?\n\
 nHet antwoord op deze en andere vragen krijg je op donderdag 20 juni as ti
 jdens een zomerse bijeenkomst waar van alles te beleven is.\n\nJe bent van
 af 16:00 welkom in het park 't Zoet\n(Ingang aan de Markkade\, naast de 'b
 ietenbak')
ATTACH;FMTTYPE=image/jpeg:https://stationskwartier-breda.nl/wp-content/upl
 oads/0406-SSK-Breda-Letters.png
LOCATION:Markkade - naast de bietenbak\, Markkade\, Breda\, Nederland
X-APPLE-STRUCTURED-LOCATION;VALUE=URI;X-ADDRESS=Markkade\, Breda\, Nederlan
 d;X-APPLE-RADIUS=100;X-TITLE=Markkade - naast de bietenbak:geo:0,0
END:VEVENT
BEGIN:VTIMEZONE
TZID:Europe/Amsterdam
X-LIC-LOCATION:Europe/Amsterdam
BEGIN:DAYLIGHT
DTSTART:20240331T030000
TZOFFSETFROM:+0100
TZOFFSETTO:+0200
TZNAME:CEST
END:DAYLIGHT
END:VTIMEZONE
END:VCALENDAR