BEGIN:VCALENDAR
VERSION:2.0
PRODID:-//wp-events-plugin.com//7.2.3.1//EN
TZID:Europe/Amsterdam
X-WR-TIMEZONE:Europe/Amsterdam
BEGIN:VEVENT
UID:134@stationskwartier-breda.nl
DTSTART;TZID=Europe/Amsterdam:20260426T140000
DTEND;TZID=Europe/Amsterdam:20260427T010000
DTSTAMP:20260309T095742Z
URL:https://stationskwartier-breda.nl/events/ploegendienst-kingsnight-spec
 ial-2026/
SUMMARY:Ploegendienst Kingsnight Special 2026
DESCRIPTION:Op zondag 26 april verandert Stadspark ’t Zoet in een creatie
 f festivalterrein tijdens Ploegendienst Kingsnight Special. Dit evenement 
 brengt muziek\, kunst\, performances en cultuur samen op het terrein van d
 e voormalige suikerfabriek.\nHet festival richt zich op een breed publiek\
 , met aan de achterkant een sterke focus op jonge makers en creatieve prof
 essionals. Daarmee draagt het evenement bij aan de ontwikkeling van het ge
 bied ’t Zoet als vernieuwende culturele plek in Breda.\nDe organisatie z
 orgt voor veiligheidsmaatregelen\, verkeersbegeleiding en crowd management
  om de omgeving veilig en bereikbaar te houden. Bezoekers worden naar aang
 ewezen parkeerplaatsen geleid en het park blijft toegankelijk voor de omge
 ving.
ATTACH;FMTTYPE=image/jpeg:https://stationskwartier-breda.nl/wp-content/upl
 oads/0903-SSK-Ploegendienst.webp
LOCATION:Stadspark 't Zoet\, Markkade\, Breda\, Nederland
X-APPLE-STRUCTURED-LOCATION;VALUE=URI;X-ADDRESS=Markkade\, Breda\, Nederlan
 d;X-APPLE-RADIUS=100;X-TITLE=Stadspark 't Zoet:geo:0,0
END:VEVENT
BEGIN:VTIMEZONE
TZID:Europe/Amsterdam
X-LIC-LOCATION:Europe/Amsterdam
BEGIN:DAYLIGHT
DTSTART:20260329T030000
TZOFFSETFROM:+0100
TZOFFSETTO:+0200
TZNAME:CEST
END:DAYLIGHT
END:VTIMEZONE
END:VCALENDAR